BEGIN:VCALENDAR
VERSION:2.0
PRODID:-//Manresa per la República - ECPv5.14.1//NONSGML v1.0//EN
CALSCALE:GREGORIAN
METHOD:PUBLISH
X-WR-CALNAME:Manresa per la República
X-ORIGINAL-URL:http://manresapelsi.cat
X-WR-CALDESC:Esdeveniments per Manresa per la República
BEGIN:VTIMEZONE
TZID:Europe/Helsinki
BEGIN:DAYLIGHT
TZOFFSETFROM:+0200
TZOFFSETTO:+0300
TZNAME:EEST
DTSTART:20170326T010000
END:DAYLIGHT
BEGIN:STANDARD
TZOFFSETFROM:+0300
TZOFFSETTO:+0200
TZNAME:EET
DTSTART:20171029T010000
END:STANDARD
END:VTIMEZONE
BEGIN:VEVENT
DTSTART;TZID=Europe/Helsinki:20170825T190000
DTEND;TZID=Europe/Helsinki:20170825T210000
DTSTAMP:20260421T115248
CREATED:20170824T132420Z
LAST-MODIFIED:20170824T132739Z
UID:943-1503687600-1503694800@manresapelsi.cat
SUMMARY:Manresa pel Sí inaugura seu al centre de la ciutat
DESCRIPTION:Manresa pel Sí inaugura seu al centre de la ciutat \n  \nEl proper divendres\, 25 d’agost\, a les set de la tarda\, s’inaugurarà la seu de la plataforma Manresa pel Sí\, situada a l’antic quiosc Cirera\, a la Muralla de Sant Domènec\, núm. 1\, de Manresa. El local de la plataforma ciutadana\, integrada a hores d’ara per l’ANC\, el Cercle Català de Negocis\, la CUP\, Esquerra republicana de Catalunya\, Demòcrates\, Esquerres per la Independència\, Fundació Independència i Progrés\, Òmnium Bages-Moianès\, PDECAT\, Solidaritat i Súmate\, oferirà material informatiu de tot tipus\, argumentaris a favor del Sí i l’agenda d’actes que es vagi programant\, en espera de l’inici de la campanya oficial per al referèndum que es durà a terme el dia 1 d’octubre. \n  \n \n\n\n	Related
URL:http://manresapelsi.cat/event/manresa-pel-si-inaugura-seu-al-centre-de-la-ciutat/
LOCATION:Seu Manresa pel SÍ\, Muralla de Sant Domènec\,1\, Manresa\, Catalunya / Barcelona\, 08241
END:VEVENT
END:VCALENDAR